BEGIN:VCALENDAR
VERSION:2.0
PRODID:-//Pro.Academy - ECPv6.3.3.1//NONSGML v1.0//EN
CALSCALE:GREGORIAN
METHOD:PUBLISH
X-ORIGINAL-URL:https://proacademyworld.com
X-WR-CALDESC:Events for Pro.Academy
REFRESH-INTERVAL;VALUE=DURATION:PT1H
X-Robots-Tag:noindex
X-PUBLISHED-TTL:PT1H
BEGIN:VTIMEZONE
TZID:UTC
BEGIN:STANDARD
TZOFFSETFROM:+0000
TZOFFSETTO:+0000
TZNAME:UTC
DTSTART:20240101T000000
END:STANDARD
END:VTIMEZONE
BEGIN:VEVENT
DTSTART;TZID=UTC:20240622T070000
DTEND;TZID=UTC:20240622T093000
DTSTAMP:20260425T154008
CREATED:20240507T105529Z
LAST-MODIFIED:20240507T105844Z
UID:45280-1719039600-1719048600@proacademyworld.com
SUMMARY:ATIVIDADES INTERNAS
DESCRIPTION:Participantes \nPRO ACADEMY \nTurma A e B \nNutrição
URL:https://proacademyworld.com/event/atividades-internas/
LOCATION:Complexo Desportivo Altenor Pereira\, 3453 Avenida Julius Nyerere\, Maputo\, Moçambique
CATEGORIES:U11,U13,U5,U7,U9
ATTACH;FMTTYPE=image/png:https://proacademyworld.com/wp-content/uploads/2024/03/cropped-logo-pro.academy.png
END:VEVENT
BEGIN:VEVENT
DTSTART;TZID=UTC:20240629T070000
DTEND;TZID=UTC:20240629T093000
DTSTAMP:20260425T154008
CREATED:20240507T105801Z
LAST-MODIFIED:20240507T105801Z
UID:45284-1719644400-1719653400@proacademyworld.com
SUMMARY:ATIVIDADES INTERNAS
DESCRIPTION:Participantes \nPRO ACADEMY \nTurma A e B \nPsicologia Desportiva 
URL:https://proacademyworld.com/event/atividades-internas-2/
LOCATION:Complexo Desportivo Altenor Pereira\, 3453 Avenida Julius Nyerere\, Maputo\, Moçambique
CATEGORIES:U11,U13,U5,U7,U9
ATTACH;FMTTYPE=image/png:https://proacademyworld.com/wp-content/uploads/2024/03/cropped-logo-pro.academy.png
END:VEVENT
BEGIN:VEVENT
DTSTART;TZID=UTC:20240720T073000
DTEND;TZID=UTC:20240720T090000
DTSTAMP:20260425T154008
CREATED:20240718T124312Z
LAST-MODIFIED:20240718T124312Z
UID:45398-1721460600-1721466000@proacademyworld.com
SUMMARY:JOGOS AMIGÁVEIS
DESCRIPTION:
URL:https://proacademyworld.com/event/jogos-amigaveis-2/
LOCATION:Complexo Desportivo Altenor Pereira\, 3453 Avenida Julius Nyerere\, Maputo\, Moçambique
CATEGORIES:Jogos,U11,U7,U9
ATTACH;FMTTYPE=image/jpeg:https://proacademyworld.com/wp-content/uploads/2024/07/Jogos-Amigaveis.jpg
END:VEVENT
BEGIN:VEVENT
DTSTART;TZID=UTC:20240720T090000
DTEND;TZID=UTC:20240720T140000
DTSTAMP:20260425T154008
CREATED:20240718T125129Z
LAST-MODIFIED:20240718T125129Z
UID:45404-1721466000-1721484000@proacademyworld.com
SUMMARY:CAMPEONATO DA CIDADE
DESCRIPTION:*CAMPEONATO DA CIDADE* *Sábado\, dia 20 de JULHO* \n#Local *COMPLEXO DESPORTIVO ALTENOR PEREIRA*  \n#Horas 09H00 – Escalão dos Infantis (Selecção dos Sub 13) *ACADEMICA* vs. Maxaquene \n#Horas 10H00 – Escalão dos Iniciados (Selecção dos Sub 15) *ACADEMICA* vs. Desportivo \n#Horas 12H30 – Escalão dos Juvenis (Selecção dos Sub 17) *ACADEMICA* vs. M. Azar \n  \nJOGOS DE NOSSAS EQUIPES EM OUTROS LOCAIS:  \n#Local *CAMPO DO ABB – TCHUMENE* \n#Horas 08H00 – Escalão dos Infantis (Selecção dos Sub 13) ABB vs. *PRO. ACADEMY* \n#Local *CAMPO DO FERROVIÁRIO DA BAIXA* \n#Horas 14H30 – Escalão dos Juniores (Selecção dos Sub 19) Fer. Mahotas vs. *ACADEMICA*
URL:https://proacademyworld.com/event/campeonato-da-cidade/
LOCATION:Complexo Desportivo Altenor Pereira\, 3453 Avenida Julius Nyerere\, Maputo\, Moçambique
CATEGORIES:Jogos,U13,U15,U17,U19
ATTACH;FMTTYPE=image/jpeg:https://proacademyworld.com/wp-content/uploads/2024/07/20-jul-a.jpg
END:VEVENT
BEGIN:VEVENT
DTSTART;TZID=UTC:20240831T073000
DTEND;TZID=UTC:20240831T170000
DTSTAMP:20260425T154008
CREATED:20240830T093240Z
LAST-MODIFIED:20240830T093240Z
UID:45567-1725089400-1725123600@proacademyworld.com
SUMMARY:CAMPEONATO DA CIDADE
DESCRIPTION:*CAMPEONATO DA CIDADE* *Sábado\, dia 28 de AGOSTO* \n#Local *COMPLEXO DESPORTIVO ALTENOR PEREIRA*  \n#Horas 07H30 – Escalão dos Infantis (Selecção dos Sub 13) \n*PRO. ACADEMY* vs. Panteras \n#Horas 08H30 – Escalão dos Infantis (Selecção dos Sub 13) \n*ACADEMICA* vs. Estrela Vermelha \n#Horas 09H30 – Escalão dos Iniciados (Selecção dos Sub 15) \n*PRO ACADEMY* vs. Ferroviário “B” \n#Horas 13H00 – Escalão dos Iniciados (Selecção dos Sub 15) \n*ACADEMICA* vs. Maxaquene \n#Horas 15H00 – Escalão dos Juniores (Selecção dos Sub 19) \n*ACADEMICA* vs. ABB
URL:https://proacademyworld.com/event/campeonato-da-cidade-2/
LOCATION:Complexo Desportivo Altenor Pereira\, 3453 Avenida Julius Nyerere\, Maputo\, Moçambique
CATEGORIES:U13,U15,U17,U19
ATTACH;FMTTYPE=image/jpeg:https://proacademyworld.com/wp-content/uploads/2024/08/31-ago.jpg
END:VEVENT
BEGIN:VEVENT
DTSTART;TZID=UTC:20240914T080000
DTEND;TZID=UTC:20240914T150000
DTSTAMP:20260425T154008
CREATED:20240913T143007Z
LAST-MODIFIED:20240913T152504Z
UID:45579-1726300800-1726326000@proacademyworld.com
SUMMARY:Campeonato da Cidade - 14/Setembro
DESCRIPTION:*CAMPEONATO DA CIDADE* *Sábado\, dia 14 de SETEMBRO*  \n#Local *COMPLEXO DESPORTIVO ALTENOR PEREIRA* \n#Horas 07H30 – Escalão dos Infantis (Selecção dos Sub 13) \n*PRO. ACADEMY* vs. Mafalala  \n#Horas 08H30 – Escalão dos Iniciados (Selecção dos Sub 15) \n*PRO ACADEMY* vs. Madrid SC  \n#Horas 10H30 – Escalão dos Iniciados (Selecção dos Sub 15) \n*ACADEMICA* vs. Mahafil  \n#Horas 13H00 – Escalão dos Juvenis (Selecção dos Sub 17) \n*ACADEMICA* vs. Vulcano  \n#Local *CAMPO DO ABB* #Horas 08H00 – Escalão dos Infantis (Selecção dos Sub 13) \nABB vs. *ACADEMICA*  \n#Local *FERROVIÁRIO DA BAIXA* #Horas 10H00 – Escalão dos Juniores (Selecção dos Sub 19) \nFerroviário vs. *ACADEMICA*
URL:https://proacademyworld.com/event/campeonato-da-cidade-3/
CATEGORIES:U13,U15,U17,U19
ATTACH;FMTTYPE=image/jpeg:https://proacademyworld.com/wp-content/uploads/2024/09/14-SET.jpg
END:VEVENT
BEGIN:VEVENT
DTSTART;TZID=UTC:20240928T073000
DTEND;TZID=UTC:20240929T093000
DTSTAMP:20260425T154008
CREATED:20240927T013904Z
LAST-MODIFIED:20240927T101410Z
UID:45606-1727508600-1727602200@proacademyworld.com
SUMMARY:Campeonato da Cidade - 28/Setembro
DESCRIPTION:*CAMPEONATO DA CIDADE* *Sábado\, dia 28 de SETEMBRO* \n#Local *COMPLEXO DESPORTIVO ALTENOR PEREIRA* \n#Horas 07H30 – Escalão dos Infantis (Selecção dos Sub 13) \n*PRO. ACADEMY* vs. Atlético \n#Horas 08H30 – Escalão dos Infantis (Selecção dos Sub 13) \n*ACADEMICA* vs. Albazine \n#Horas 09H30 – Escalão dos Iniciados (Selecção dos Sub 15) \n*PRO ACADEMY* vs. BIG BEN \n#Horas 13H00 – Escalão dos Juvenis (Selecção dos Sub 17) \n*ACADEMICA* vs. M. Azar \n#Local *CAMPO DO COSTA DO SOL* #Horas 07H30 \nEscalão dos Iniciados (Selecção dos Sub 15) \nCosta do Sol vs. *ACADEMICA* \n*Domingo\, dia 29 de SETEMBRO* #Local *CAMPO DO MAHAFIL* #Horas 07H30 \nEscalão dos Juniores (Selecção dos Sub 19) Mahafil vs. *ACADEMICA*
URL:https://proacademyworld.com/event/campeonato-da-cidade-28-setembro/
CATEGORIES:U13,U15,U17,U19
ATTACH;FMTTYPE=image/jpeg:https://proacademyworld.com/wp-content/uploads/2024/09/4.jpg
END:VEVENT
BEGIN:VEVENT
DTSTART;TZID=UTC:20241003T080000
DTEND;TZID=UTC:20241005T153000
DTSTAMP:20260425T154008
CREATED:20241003T233527Z
LAST-MODIFIED:20241003T233527Z
UID:45634-1727942400-1728142200@proacademyworld.com
SUMMARY:Campeonato da Cidade - 05/Outubro
DESCRIPTION:*CAMPEONATO DA CIDADE* *Sábado\, dia 05 de OUTUBRO*  \n#Local *COMPLEXO DESPORTIVO ALTENOR PEREIRA* #Horas 09H30  \nEscalão dos Iniciados (Selecção dos Sub 15) \n*PRO. ACADEMY* vs. Panteras #Horas 10H45 \nEscalão dos Iniciados (Selecção dos Sub 15) \n*ACADEMICA* vs. Albazine #Horas 13H30 \nEscalão dos Juniores (Selecção dos Sub 19) \n*ACADEMICA* vs. Costa do Sol \n#Local *CAMPO DO ANJO VOADOR – KHONGOLOTE*  \n#Horas 08H00 – Escalão dos Infantis (Selecção dos Sub 13) \nAnjo Voador vs. *PRO ACADEMY* #Local *CAMPO DO MAHAFIL* \n#Horas 07H30 – Escalão dos Infantis (Selecção dos Sub 13) \nMahafil vs. *ACADEMICA*
URL:https://proacademyworld.com/event/campeonato-da-cidade-05-outubro/
CATEGORIES:U13,U15,U19
ATTACH;FMTTYPE=image/jpeg:https://proacademyworld.com/wp-content/uploads/2024/10/05-OUT-a.jpg
END:VEVENT
BEGIN:VEVENT
DTSTART;TZID=UTC:20241012T073000
DTEND;TZID=UTC:20241012T093000
DTSTAMP:20260425T154008
CREATED:20241010T211347Z
LAST-MODIFIED:20241010T211347Z
UID:45666-1728718200-1728725400@proacademyworld.com
SUMMARY:Jogos Amigáveis
DESCRIPTION:*JOGOS AMIGÁVEIS*  \n*Sábado\, dia 12 de OUTUBRO* \n#Local *COMPLEXO DESPORTIVO ALTENOR PEREIRA – UEM* \n#Hora 07H30 \n*Sub 11B – Masculino* *Sub 13 – Feminino* * \n_PRO ACADEMY vs. ENKO MAPUTO_* \n  \n*TODOS OS PARTICIPANTES DEVEM COMPARECER NO LOCAL E À HORA MARCADA DEVIDAMENTE EQUIPADOS COM O UNIFORME DA ESCOLA*
URL:https://proacademyworld.com/event/jogos-amigaveis-5/
CATEGORIES:U11,U13
ATTACH;FMTTYPE=image/jpeg:https://proacademyworld.com/wp-content/uploads/2024/10/12-out-evento.jpg
END:VEVENT
BEGIN:VEVENT
DTSTART;TZID=UTC:20241012T073000
DTEND;TZID=UTC:20241012T123000
DTSTAMP:20260425T154008
CREATED:20241010T211002Z
LAST-MODIFIED:20241010T211002Z
UID:45661-1728718200-1728736200@proacademyworld.com
SUMMARY:Campeonato da Cidade - 12/Outubro
DESCRIPTION:*CAMPEONATO DA CIDADE*  \n*Sábado\, dia 12 de OUTUBRO*  \n#Local *COMPLEXO DESPORTIVO ALTENOR PEREIRA* \n#Horas 08H30 – Escalão dos Infantis (Selecção dos Sub 13) \n*PRO. ACADEMY* vs. ABB \n#Horas 09H30 – Escalão dos Infantis (Selecção dos Sub 13) \n*ACADEMICA* vs. Maxaquene \n#Horas 10H30 – Escalão dos Juvenis (Selecção dos Sub 17) \n*ACADEMICA* vs. Maxaquene \n  \n#Local *CAMPO DO FER. BAIXA*  \n#Horas 07H30 – Escalão dos Iniciados (Selecção dos Sub 15) \nDesportivo vs. *ACADEMICA* \n 
URL:https://proacademyworld.com/event/campeonato-da-cidade-12-outubro/
CATEGORIES:U13,U15,U17,U19
ATTACH;FMTTYPE=image/jpeg:https://proacademyworld.com/wp-content/uploads/2024/10/Campeonato-da-Cidade-6-1.jpg
END:VEVENT
BEGIN:VEVENT
DTSTART;TZID=UTC:20241019T073000
DTEND;TZID=UTC:20241019T120000
DTSTAMP:20260425T154008
CREATED:20241018T163327Z
LAST-MODIFIED:20241018T163406Z
UID:45732-1729323000-1729339200@proacademyworld.com
SUMMARY:Actividade Alusiva ao Outubro Rosa
DESCRIPTION:
URL:https://proacademyworld.com/event/actividade-alusiva-ao-outubro-rosa/
LOCATION:Arena do Triunfo
CATEGORIES:U11
ATTACH;FMTTYPE=image/jpeg:https://proacademyworld.com/wp-content/uploads/2024/10/outubro-rosa-pro-academy.jpg
END:VEVENT
BEGIN:VEVENT
DTSTART;TZID=UTC:20241019T073000
DTEND;TZID=UTC:20241019T130000
DTSTAMP:20260425T154008
CREATED:20241018T163027Z
LAST-MODIFIED:20241018T163439Z
UID:45727-1729323000-1729342800@proacademyworld.com
SUMMARY:Campeonato da Cidade - 19 de Outubro
DESCRIPTION:*CAMPEONATO DA CIDADE*  \n*Sábado\, dia 19 de OUTUBRO* \n#Local *COMPLEXO DESPORTIVO ALTENOR PEREIRA*  \n#Horas 07H30 – Escalão dos Iniciados (Selecção dos Sub 15) \n*PRO. ACADEMY* vs. Anjo Voador \n#Horas 08H30 – Escalão dos Iniciados (Selecção dos Sub 15) \n*ACADEMICA* vs. ABB “A” \n#Horas 10H30 – Escalão dos Juniores (Selecção dos Sub 19) \n*ACADEMICA* vs. Fer. Mahotas \n#Local *CAMPO DO ZIXAXA*  \n#Horas 08H30 – Escalão dos Infantis (Selecção dos Sub 13) \nZixaxa vs. *PRO ACADEMY* \n#Local *ESTÁDIO DA MACHAVA*  \n#Horas 08H30 – Escalão dos Infantis (Selecção dos Sub 13) \nFerroviário “A” vs. *ACADEMICA*
URL:https://proacademyworld.com/event/campeonato-da-cidade-12-de-outubro/
CATEGORIES:U13,U15,U19
ATTACH;FMTTYPE=image/jpeg:https://proacademyworld.com/wp-content/uploads/2024/10/4-2.jpg
END:VEVENT
END:VCALENDAR